BEGIN:VCALENDAR
VERSION:2.0
PRODID:-//Gemeinde Pama - ECPv4.6.25//NONSGML v1.0//EN
CALSCALE:GREGORIAN
METHOD:PUBLISH
X-WR-CALNAME:Gemeinde Pama
X-ORIGINAL-URL:https://www.gemeinde-pama.at
X-WR-CALDESC:Veranstaltungen für Gemeinde Pama
BEGIN:VEVENT
DTSTART;TZID=Europe/Berlin:20260620T160000
DTEND;TZID=Europe/Berlin:20260621T010000
DTSTAMP:20260422T051504
CREATED:20260127T075208Z
LAST-MODIFIED:20260127T075208Z
UID:8265-1781971200-1782003600@www.gemeinde-pama.at
SUMMARY:Grätzlturnier
DESCRIPTION:
URL:https://www.gemeinde-pama.at/event/graetzlturnier/
LOCATION:SK Platz
ATTACH;FMTTYPE=image/jpeg:https://www.gemeinde-pama.at/wp-content/uploads/2018/11/skpama.jpeg
END:VEVENT
END:VCALENDAR