BEGIN:VCALENDAR
VERSION:2.0
PRODID:-//Gemeinde Pama - ECPv4.6.25//NONSGML v1.0//EN
CALSCALE:GREGORIAN
METHOD:PUBLISH
X-WR-CALNAME:Gemeinde Pama
X-ORIGINAL-URL:https://www.gemeinde-pama.at
X-WR-CALDESC:Veranstaltungen für Gemeinde Pama
BEGIN:VEVENT
DTSTART;TZID=Europe/Berlin:20260307T180000
DTEND;TZID=Europe/Berlin:20260307T230000
DTSTAMP:20260423T144133
CREATED:20260216T095921Z
LAST-MODIFIED:20260216T095921Z
UID:8302-1772906400-1772924400@www.gemeinde-pama.at
SUMMARY:Preisschnapsen
DESCRIPTION:
URL:https://www.gemeinde-pama.at/event/preisschnapsen/
LOCATION:UFC Arena
ATTACH;FMTTYPE=image/jpeg:https://www.gemeinde-pama.at/wp-content/uploads/2018/10/6a0009de-bc8a-4b6c-abd2-71f997d11268.jpg
END:VEVENT
END:VCALENDAR