BEGIN:VCALENDAR
VERSION:2.0
PRODID:-//Gemeinde Pama - ECPv4.6.25//NONSGML v1.0//EN
CALSCALE:GREGORIAN
METHOD:PUBLISH
X-WR-CALNAME:Gemeinde Pama
X-ORIGINAL-URL:https://www.gemeinde-pama.at
X-WR-CALDESC:Veranstaltungen für Gemeinde Pama
BEGIN:VEVENT
DTSTART;TZID=Europe/Berlin:20260214T080000
DTEND;TZID=Europe/Berlin:20260214T120000
DTSTAMP:20260423T130516
CREATED:20260206T110655Z
LAST-MODIFIED:20260206T110655Z
UID:8292-1771056000-1771070400@www.gemeinde-pama.at
SUMMARY:Valentins Frühstück
DESCRIPTION:
URL:https://www.gemeinde-pama.at/event/valentins-fruehstueck/
LOCATION:Schulgasse (beim Betreubaren Wohnen)\, östlich Heidesiedlung 93\, Pama
ATTACH;FMTTYPE=image/jpeg:https://www.gemeinde-pama.at/wp-content/uploads/2024/12/NF_Pama_Logo_Horizontal.jpg
END:VEVENT
END:VCALENDAR