BEGIN:VCALENDAR
VERSION:2.0
PRODID:-//Gemeinde Pama - ECPv4.6.25//NONSGML v1.0//EN
CALSCALE:GREGORIAN
METHOD:PUBLISH
X-WR-CALNAME:Gemeinde Pama
X-ORIGINAL-URL:https://www.gemeinde-pama.at
X-WR-CALDESC:Veranstaltungen für Gemeinde Pama
BEGIN:VEVENT
DTSTART;TZID=Europe/Berlin:20260131T180000
DTEND;TZID=Europe/Berlin:20260131T233000
DTSTAMP:20260423T113322
CREATED:20260127T074245Z
LAST-MODIFIED:20260127T074245Z
UID:8257-1769882400-1769902200@www.gemeinde-pama.at
SUMMARY:Dartturnier
DESCRIPTION:
URL:https://www.gemeinde-pama.at/event/dartturnier/
LOCATION:SK Platz
ATTACH;FMTTYPE=image/jpeg:https://www.gemeinde-pama.at/wp-content/uploads/2018/11/skpama.jpeg
END:VEVENT
END:VCALENDAR