BEGIN:VCALENDAR
VERSION:2.0
PRODID:-//Gemeinde Pama - ECPv4.6.25//NONSGML v1.0//EN
CALSCALE:GREGORIAN
METHOD:PUBLISH
X-WR-CALNAME:Gemeinde Pama
X-ORIGINAL-URL:https://www.gemeinde-pama.at
X-WR-CALDESC:Veranstaltungen für Gemeinde Pama
BEGIN:VEVENT
DTSTART;TZID=Europe/Berlin:20260306T180000
DTEND;TZID=Europe/Berlin:20260306T203000
DTSTAMP:20260423T143826
CREATED:20260205T101706Z
LAST-MODIFIED:20260205T101706Z
UID:8282-1772820000-1772829000@www.gemeinde-pama.at
SUMMARY:Buchpräsentation "Zwischen Front und Heimat"
DESCRIPTION:
URL:https://www.gemeinde-pama.at/event/buchpraesentation-zwischen-front-und-heimat/
LOCATION:SK Platz
ATTACH;FMTTYPE=application/pdf:https://www.gemeinde-pama.at/wp-content/uploads/2026/02/Buchpraesentation-.pdf
END:VEVENT
END:VCALENDAR