BEGIN:VCALENDAR
VERSION:2.0
PRODID:-//Gemeinde Pama - ECPv4.6.25//NONSGML v1.0//EN
CALSCALE:GREGORIAN
METHOD:PUBLISH
X-WR-CALNAME:Gemeinde Pama
X-ORIGINAL-URL:https://www.gemeinde-pama.at
X-WR-CALDESC:Veranstaltungen für Gemeinde Pama
BEGIN:VEVENT
DTSTART;TZID=Europe/Berlin:20260405T210000
DTEND;TZID=Europe/Berlin:20260405T233000
DTSTAMP:20260423T143841
CREATED:20260216T100132Z
LAST-MODIFIED:20260216T100132Z
UID:8306-1775422800-1775431800@www.gemeinde-pama.at
SUMMARY:Osterparty
DESCRIPTION:
URL:https://www.gemeinde-pama.at/event/osterparty/
LOCATION:UFC Arena
ATTACH;FMTTYPE=image/jpeg:https://www.gemeinde-pama.at/wp-content/uploads/2018/10/6a0009de-bc8a-4b6c-abd2-71f997d11268.jpg
END:VEVENT
END:VCALENDAR