BEGIN:VCALENDAR
VERSION:2.0
PRODID:-//Gemeinde Pama - ECPv4.6.25//NONSGML v1.0//EN
CALSCALE:GREGORIAN
METHOD:PUBLISH
X-WR-CALNAME:Gemeinde Pama
X-ORIGINAL-URL:https://www.gemeinde-pama.at
X-WR-CALDESC:Veranstaltungen für Gemeinde Pama
BEGIN:VEVENT
DTSTART;TZID=Europe/Berlin:20260926T210000
DTEND;TZID=Europe/Berlin:20260927T040000
DTSTAMP:20260423T231325
CREATED:20260127T075905Z
LAST-MODIFIED:20260127T075905Z
UID:8271-1790456400-1790481600@www.gemeinde-pama.at
SUMMARY:Oktoberfest
DESCRIPTION:
URL:https://www.gemeinde-pama.at/event/oktoberfest/
LOCATION:SK Platz
ATTACH;FMTTYPE=image/jpeg:https://www.gemeinde-pama.at/wp-content/uploads/2018/11/skpama.jpeg
END:VEVENT
END:VCALENDAR