BEGIN:VCALENDAR
VERSION:2.0
PRODID:-//Gemeinde Pama - ECPv4.6.25//NONSGML v1.0//EN
CALSCALE:GREGORIAN
METHOD:PUBLISH
X-WR-CALNAME:Gemeinde Pama
X-ORIGINAL-URL:https://www.gemeinde-pama.at
X-WR-CALDESC:Veranstaltungen für Gemeinde Pama
BEGIN:VEVENT
DTSTART;TZID=Europe/Berlin:20261108T110000
DTEND;TZID=Europe/Berlin:20261108T160000
DTSTAMP:20260424T015712
CREATED:20260318T073516Z
LAST-MODIFIED:20260421T065754Z
UID:8346-1794135600-1794153600@www.gemeinde-pama.at
SUMMARY:Wildfrühschoppen
DESCRIPTION:
URL:https://www.gemeinde-pama.at/event/wildfruehschoppen/
LOCATION:Feuerwehrhaus
ATTACH;FMTTYPE=image/jpeg:https://www.gemeinde-pama.at/wp-content/uploads/2018/10/0131f480-9270-4150-b7e0-690dc6f10494.jpg
END:VEVENT
END:VCALENDAR